
BEGIN:VCALENDAR
VERSION:2.0
PRODID:spatie/icalendar-generator
DESCRIPTION:テクノソリューションのイベント
X-WR-CALDESC:テクノソリューションのイベント
REFRESH-INTERVAL;VALUE=DURATION:PT1440M
X-PUBLISHED-TTL:PT1440M
BEGIN:VTIMEZONE
TZID:Asia/Tokyo
BEGIN:STANDARD
DTSTART:20160813T100000Z
TZOFFSETFROM:+0900
TZOFFSETTO:+0900
END:STANDARD
END:VTIMEZONE
BEGIN:VTIMEZONE
TZID:UTC
BEGIN:STANDARD
DTSTART:20250728T160129Z
TZOFFSETFROM:+0000
TZOFFSETTO:+0000
END:STANDARD
END:VTIMEZONE
BEGIN:VEVENT
UID:25-6
DTSTAMP:20260424T160129Z
SUMMARY:Japan IT Week 春 2017
LOCATION:
ORGANIZER;CN=坂口 憲一:MAILTO:sakaguchi@technosolution.co.jp
DTSTART;TZID=Asia/Tokyo:20170510T100000
DTEND;TZID=Asia/Tokyo:20170512T180000
X-ALT-DESC;FMTTYPE=TEXT/HTML:今年も「IT」のさまざまな分野が
 一堂に会する展示会が開催されます。 ・第1回 店舗ITソ
 リューション展【春】 &amp;hellip\;
CATEGORIES:他団体主催
URL;VALUE=URI:https://www.technosolution.co.jp/mc-events/japan-it-week-%e6%
 98%a5-2017/?mc_id=25
END:VEVENT
END:VCALENDAR